BEGIN:VCALENDAR
VERSION:2.0
PRODID:-//Vista Gem &amp; Mineral Society - ECPv6.15.20//NONSGML v1.0//EN
CALSCALE:GREGORIAN
METHOD:PUBLISH
X-WR-CALNAME:Vista Gem &amp; Mineral Society
X-ORIGINAL-URL:https://vistarocks.org
X-WR-CALDESC:Events for Vista Gem &amp; Mineral Society
REFRESH-INTERVAL;VALUE=DURATION:PT1H
X-Robots-Tag:noindex
X-PUBLISHED-TTL:PT1H
BEGIN:VTIMEZONE
TZID:America/Los_Angeles
BEGIN:DAYLIGHT
TZOFFSETFROM:-0800
TZOFFSETTO:-0700
TZNAME:PDT
DTSTART:20240310T100000
END:DAYLIGHT
BEGIN:STANDARD
TZOFFSETFROM:-0700
TZOFFSETTO:-0800
TZNAME:PST
DTSTART:20241103T090000
END:STANDARD
BEGIN:DAYLIGHT
TZOFFSETFROM:-0800
TZOFFSETTO:-0700
TZNAME:PDT
DTSTART:20250309T100000
END:DAYLIGHT
BEGIN:STANDARD
TZOFFSETFROM:-0700
TZOFFSETTO:-0800
TZNAME:PST
DTSTART:20251102T090000
END:STANDARD
BEGIN:DAYLIGHT
TZOFFSETFROM:-0800
TZOFFSETTO:-0700
TZNAME:PDT
DTSTART:20260308T100000
END:DAYLIGHT
BEGIN:STANDARD
TZOFFSETFROM:-0700
TZOFFSETTO:-0800
TZNAME:PST
DTSTART:20261101T090000
END:STANDARD
END:VTIMEZONE
BEGIN:VEVENT
DTSTART;TZID=America/Los_Angeles:20251018T130000
DTEND;TZID=America/Los_Angeles:20251018T140000
DTSTAMP:20260425T122840
CREATED:20250703T042924Z
LAST-MODIFIED:20250927T010901Z
UID:1394-1760792400-1760796000@vistarocks.org
SUMMARY:VGMS October Executive Board Meeting
DESCRIPTION:Members and Public welcome. We have a new location for our meetings please see map for address and directions. \n\nAGENDA:\n1:00 pm Pledge of Allegiance;\n1:05 pm Committee Reports\nUnfinished Business\nNew Business\n2:00 pm Meeting Adjourned
URL:https://vistarocks.org/event/vgms-october-executive-board-meeting/
LOCATION:Mission Branch Community Room at Oceanside Mission Branch Library\, 3861 Mission Ave\,\, Oceanside\,\, 92058
ORGANIZER;CN="Sherry Remington":MAILTO:sherryremington@yahoo.com
END:VEVENT
BEGIN:VEVENT
DTSTART;TZID=America/Los_Angeles:20251018T140000
DTEND;TZID=America/Los_Angeles:20251018T153000
DTSTAMP:20260425T122840
CREATED:20250703T022509Z
LAST-MODIFIED:20250927T010812Z
UID:1380-1760796000-1760801400@vistarocks.org
SUMMARY:VGMS October Member Meeting
DESCRIPTION:Members and Public welcome. We have a new location for our meetings please see map for address and directions. Bring a little something to share for our potluck. Check our email announcement  for the latest updates. \n\nAGENDA:\n2:00 pm Pledge of Allegiance;\n2:05 pm VGMS Member Updates:\n2:20 pm Speaker / Presentation – Digital Cabochon by John Simpson\n3:00 pm Pot Luck\n3:30 pm Meeting Adjourned
URL:https://vistarocks.org/event/vgms-october-member-meeting/
LOCATION:Mission Branch Community Room at Oceanside Mission Branch Library\, 3861 Mission Ave\,\, Oceanside\,\, 92058
ORGANIZER;CN="Sherry Remington":MAILTO:sherryremington@yahoo.com
END:VEVENT
END:VCALENDAR