BEGIN:VCALENDAR
VERSION:2.0
PRODID:-//Vista Gem &amp; Mineral Society - ECPv6.15.20//NONSGML v1.0//EN
CALSCALE:GREGORIAN
METHOD:PUBLISH
X-WR-CALNAME:Vista Gem &amp; Mineral Society
X-ORIGINAL-URL:https://vistarocks.org
X-WR-CALDESC:Events for Vista Gem &amp; Mineral Society
REFRESH-INTERVAL;VALUE=DURATION:PT1H
X-Robots-Tag:noindex
X-PUBLISHED-TTL:PT1H
BEGIN:VTIMEZONE
TZID:America/Los_Angeles
BEGIN:DAYLIGHT
TZOFFSETFROM:-0800
TZOFFSETTO:-0700
TZNAME:PDT
DTSTART:20240310T100000
END:DAYLIGHT
BEGIN:STANDARD
TZOFFSETFROM:-0700
TZOFFSETTO:-0800
TZNAME:PST
DTSTART:20241103T090000
END:STANDARD
BEGIN:DAYLIGHT
TZOFFSETFROM:-0800
TZOFFSETTO:-0700
TZNAME:PDT
DTSTART:20250309T100000
END:DAYLIGHT
BEGIN:STANDARD
TZOFFSETFROM:-0700
TZOFFSETTO:-0800
TZNAME:PST
DTSTART:20251102T090000
END:STANDARD
BEGIN:DAYLIGHT
TZOFFSETFROM:-0800
TZOFFSETTO:-0700
TZNAME:PDT
DTSTART:20260308T100000
END:DAYLIGHT
BEGIN:STANDARD
TZOFFSETFROM:-0700
TZOFFSETTO:-0800
TZNAME:PST
DTSTART:20261101T090000
END:STANDARD
END:VTIMEZONE
BEGIN:VEVENT
DTSTART;TZID=America/Los_Angeles:20251218T180000
DTEND;TZID=America/Los_Angeles:20251218T203000
DTSTAMP:20260425T154934
CREATED:20251203T005345Z
LAST-MODIFIED:20251203T005345Z
UID:1503-1766080800-1766089800@vistarocks.org
SUMMARY:2025 VGMS Holiday Event Invite
DESCRIPTION:The Vista Gem and Mineral Society is excited to announce that we will be joining the Palomar Gem and Mineral Society for their upcoming General Meeting\, Holiday Potluck\, and White Elephant Gift Exchange. This is a wonderful chance for members of both clubs to celebrate together\, share good food\, and enjoy some festive fun. \nEvent Details\nPGMC General Meeting\, Holiday Potluck & White Elephant\n📅 Thursday\, December 18\n⏰ 6:00 PM – 7:00 PM – Set Up\n⏰ 7:00 PM – 8:30 PM – Activities Start\n📍 Escondido Masonic Center\n1331 S Escondido Blvd\, Escondido\, CA 92025 \nPotluck Reminder\nThis is a potluck gathering — please bring a food item\, drinks\, or utensils to share. Everything helps and is greatly appreciated. \nWhite Elephant Gift Exchange\nThere will also be a White Elephant gift exchange with a $20 minimum.\nWhile minerals and jewelry are commonly exchanged\, any fun or interesting gift is welcome — feel free to get creative!
URL:https://vistarocks.org/event/2025-vgms-holiday-event-invite/
LOCATION:Escondidio\, 1331 S Escondido Blvd\, Escondido\, CA 92025\, CA\, 92025\, United States
END:VEVENT
END:VCALENDAR