BEGIN:VCALENDAR
VERSION:2.0
PRODID:-//Vista Gem &amp; Mineral Society - ECPv6.15.20//NONSGML v1.0//EN
CALSCALE:GREGORIAN
METHOD:PUBLISH
X-ORIGINAL-URL:https://vistarocks.org
X-WR-CALDESC:Events for Vista Gem &amp; Mineral Society
REFRESH-INTERVAL;VALUE=DURATION:PT1H
X-Robots-Tag:noindex
X-PUBLISHED-TTL:PT1H
BEGIN:VTIMEZONE
TZID:America/Los_Angeles
BEGIN:DAYLIGHT
TZOFFSETFROM:-0800
TZOFFSETTO:-0700
TZNAME:PDT
DTSTART:20240310T100000
END:DAYLIGHT
BEGIN:STANDARD
TZOFFSETFROM:-0700
TZOFFSETTO:-0800
TZNAME:PST
DTSTART:20241103T090000
END:STANDARD
BEGIN:DAYLIGHT
TZOFFSETFROM:-0800
TZOFFSETTO:-0700
TZNAME:PDT
DTSTART:20250309T100000
END:DAYLIGHT
BEGIN:STANDARD
TZOFFSETFROM:-0700
TZOFFSETTO:-0800
TZNAME:PST
DTSTART:20251102T090000
END:STANDARD
BEGIN:DAYLIGHT
TZOFFSETFROM:-0800
TZOFFSETTO:-0700
TZNAME:PDT
DTSTART:20260308T100000
END:DAYLIGHT
BEGIN:STANDARD
TZOFFSETFROM:-0700
TZOFFSETTO:-0800
TZNAME:PST
DTSTART:20261101T090000
END:STANDARD
END:VTIMEZONE
BEGIN:VEVENT
DTSTART;TZID=America/Los_Angeles:20250913T120000
DTEND;TZID=America/Los_Angeles:20250913T180000
DTSTAMP:20260425T094031
CREATED:20250820T003035Z
LAST-MODIFIED:20250820T003035Z
UID:1412-1757764800-1757786400@vistarocks.org
SUMMARY:VGMS & CoLab Autumn Gem\, Mineral\, and Jewelry Show
DESCRIPTION:
URL:https://vistarocks.org/event/vgms-colab-autumn-gem-mineral-and-jewelry-show/
LOCATION:CoLab Public House\, 2129 Industrial Court\, Vista\, CA\, 92081\, United States
ORGANIZER;CN="Vista Gem and Mineral Society":MAILTO:info@vistarocks.org
END:VEVENT
BEGIN:VEVENT
DTSTART;TZID=America/Los_Angeles:20250920T130000
DTEND;TZID=America/Los_Angeles:20250920T140000
DTSTAMP:20260425T094031
CREATED:20250703T042737Z
LAST-MODIFIED:20250819T153838Z
UID:1392-1758373200-1758376800@vistarocks.org
SUMMARY:VGMS September Executive Board Meeting
DESCRIPTION:Members and Public welcome. We have a new location for our meetings please see map for address and directions. \n\nAGENDA:\n1:00 pm Pledge of Allegiance;\n1:05 pm Committee Reports\nUnfinished Business\nNew Business\n2:00 pm Meeting Adjourned
URL:https://vistarocks.org/event/vgms-september-executive-board-meeting/
LOCATION:The Steven A Cohen Military Family Clinic at VVSD\, 3609 Ocean Ranch Blvd\, STE 120\, Oceanside\, CA\, 92056\, United States
ORGANIZER;CN="Sherry Remington":MAILTO:sherryremington@yahoo.com
END:VEVENT
BEGIN:VEVENT
DTSTART;TZID=America/Los_Angeles:20250920T140000
DTEND;TZID=America/Los_Angeles:20250920T153000
DTSTAMP:20260425T094031
CREATED:20250703T014724Z
LAST-MODIFIED:20250819T154021Z
UID:1370-1758376800-1758382200@vistarocks.org
SUMMARY:VGMS September Member Meeting
DESCRIPTION:Members and Public welcome. We have a new location for our meetings please see map for address and directions. Bring a little something to share for our potluck. Check our email announcement  for the latest updates. \n\nAGENDA:\n2:00 pm Pledge of Allegiance;\n2:05 pm VGMS Member Updates:\n2:20 pm Speaker / Presentation –\n3:00 pm Pot Luck\n3:30 pm Meeting Adjourned
URL:https://vistarocks.org/event/vgms-september-member-meeting/
LOCATION:The Steven A Cohen Military Family Clinic at VVSD\, 3609 Ocean Ranch Blvd\, STE 120\, Oceanside\, CA\, 92056\, United States
ORGANIZER;CN="Vista Gem and Mineral Society":MAILTO:info@vistarocks.org
END:VEVENT
END:VCALENDAR